BEGIN:VCALENDAR
VERSION:2.0
PRODID:-//natur-fuehrungen.de - ECPv6.3.1//NONSGML v1.0//EN
CALSCALE:GREGORIAN
METHOD:PUBLISH
X-WR-CALNAME:natur-fuehrungen.de
X-ORIGINAL-URL:https://natur-fuehrungen.de
X-WR-CALDESC:Veranstaltungen für natur-fuehrungen.de
REFRESH-INTERVAL;VALUE=DURATION:PT1H
X-Robots-Tag:noindex
X-PUBLISHED-TTL:PT1H
BEGIN:VTIMEZONE
TZID:Europe/Berlin
BEGIN:DAYLIGHT
TZOFFSETFROM:+0100
TZOFFSETTO:+0200
TZNAME:CEST
DTSTART:20220327T010000
END:DAYLIGHT
BEGIN:STANDARD
TZOFFSETFROM:+0200
TZOFFSETTO:+0100
TZNAME:CET
DTSTART:20221030T010000
END:STANDARD
END:VTIMEZONE
BEGIN:VEVENT
DTSTART;TZID=Europe/Berlin:20220424T103000
DTEND;TZID=Europe/Berlin:20220424T124500
DTSTAMP:20260421T114141
CREATED:20220202T134334Z
LAST-MODIFIED:20220202T135051Z
UID:525-1650796200-1650804300@natur-fuehrungen.de
SUMMARY:Wild- und Heilkräuterführung am Kohlhof / Erwachsene und Kinder ab 6 Jahre
DESCRIPTION:Jeder kennt sie\, die Heidelberger Schlittenwiese am Kohlhof! Wer aber im Frühling\, Sommer und Herbst über die Wiese läuft\, kann eine Menge wilder\, essbarer Kräuter und Blumen entdecken. Bloß – wie kann man sie sicher erkennen und finden? Jede Familie kann sich auf dem Spaziergang unter Anleitung ein kleines Kräuterbüchlein anlegen (Material dafür wird mitgebracht)\, und auch die Kinder lernen so spielerisch die Kräuter kennen und vor allem auch wiedererkennen. Nebenbei wird erklärt\, wofür die Wildkräuter genutzt werden können\, welche Heilkräfte sie haben und wie sie am besten schmecken! Bitte wetterangepasste Kleidung und festes Schuhwerk\, Körbchen bzw. Tasche zum Sammeln mitbringen\, und falls Sie ein Kräuterbüchlein gestalten wollen\, kommen zur Teilnahmegebühr zusätzlich 2\,- € Materialkosten hinzu\, die vor Ort bezahlt werden.\nIn Kooperation mit Natürlich Heidelberg \n\nfür Erwachsene und Kinder\nGebühr: 10 €\, Kinder 6 €\nAnmeldung über die VHS Heidelberg. Kursnummer: 1814k\nTreffpunkt wird bei Anmeldung bekanntgegeben
URL:https://natur-fuehrungen.de/termin/wild-und-heilkraeuterfuehrung-am-kohlhof/
LOCATION:Treffpunkt: wird bei Anmeldung bekannt gegeben
CATEGORIES:Führungen
END:VEVENT
END:VCALENDAR