BEGIN:VCALENDAR
VERSION:2.0
PRODID:-//natur-fuehrungen.de - ECPv6.3.1//NONSGML v1.0//EN
CALSCALE:GREGORIAN
METHOD:PUBLISH
X-WR-CALNAME:natur-fuehrungen.de
X-ORIGINAL-URL:https://natur-fuehrungen.de
X-WR-CALDESC:Veranstaltungen für natur-fuehrungen.de
REFRESH-INTERVAL;VALUE=DURATION:PT1H
X-Robots-Tag:noindex
X-PUBLISHED-TTL:PT1H
BEGIN:VTIMEZONE
TZID:Europe/Berlin
BEGIN:DAYLIGHT
TZOFFSETFROM:+0100
TZOFFSETTO:+0200
TZNAME:CEST
DTSTART:20220327T010000
END:DAYLIGHT
BEGIN:STANDARD
TZOFFSETFROM:+0200
TZOFFSETTO:+0100
TZNAME:CET
DTSTART:20221030T010000
END:STANDARD
END:VTIMEZONE
BEGIN:VEVENT
DTSTART;TZID=Europe/Berlin:20220427T171500
DTEND;TZID=Europe/Berlin:20220427T191500
DTSTAMP:20260419T222706
CREATED:20220202T100107Z
LAST-MODIFIED:20220202T100107Z
UID:510-1651079700-1651086900@natur-fuehrungen.de
SUMMARY:Waldmeisterspaziergang – Heidelberger Stadtwald bei Drei Eichen
DESCRIPTION:Gebühr: 8 € (erm. 7€)\nKinder bis 6 Jahre frei\nBarzahlung am Veranstaltungstermin\n\nDie Teilnehmerzahl ist begrenzt und eine verbindliche Anmeldung bis Dienstag\, 26. April\, ist erforderlich (!) unter Buchungsportal Natürlich Heidelberg \nTreffpunkt: Bushaltestelle ‚Drei Eichen‘\, Linie 39 (Link zu Google Maps)
URL:https://natur-fuehrungen.de/termin/waldmeisterspaziergang-heidelberger-stadtwald-bei-drei-eichen-3/
LOCATION:Bushaltestelle „Drei Eichen“\, Linie 39\, Kreuzung K9708 /\, Drei-Eichen-Weg\, Heidelberg\, 69117 
CATEGORIES:Exkursionen
ORGANIZER;CN="Nat%C3%BCrlich Heidelberg":MAILTO:natuerlich@heidelberg.de
END:VEVENT
END:VCALENDAR