BEGIN:VCALENDAR
VERSION:2.0
PRODID:-//natur-fuehrungen.de - ECPv6.3.1//NONSGML v1.0//EN
CALSCALE:GREGORIAN
METHOD:PUBLISH
X-ORIGINAL-URL:https://natur-fuehrungen.de
X-WR-CALDESC:Veranstaltungen für natur-fuehrungen.de
REFRESH-INTERVAL;VALUE=DURATION:PT1H
X-Robots-Tag:noindex
X-PUBLISHED-TTL:PT1H
BEGIN:VTIMEZONE
TZID:Europe/Berlin
BEGIN:DAYLIGHT
TZOFFSETFROM:+0100
TZOFFSETTO:+0200
TZNAME:CEST
DTSTART:20220327T010000
END:DAYLIGHT
BEGIN:STANDARD
TZOFFSETFROM:+0200
TZOFFSETTO:+0100
TZNAME:CET
DTSTART:20221030T010000
END:STANDARD
END:VTIMEZONE
BEGIN:VEVENT
DTSTART;TZID=Europe/Berlin:20220504T171500
DTEND;TZID=Europe/Berlin:20220504T190000
DTSTAMP:20260419T235953
CREATED:20220202T100321Z
LAST-MODIFIED:20220202T100321Z
UID:512-1651684500-1651690800@natur-fuehrungen.de
SUMMARY:Überlebenskünstler – Die Flora auf Sand in der Heidelberger Südstadt
DESCRIPTION:Gebühr: 8 € (erm. 7€)\nKinder bis 6 Jahre frei\nBarzahlung am Veranstaltungstermin\n\nDie Teilnehmerzahl ist begrenzt und eine verbindliche Anmeldung bis Dienstag\, 4. Mai\, ist erforderlich (!) unter Buchungsportal Natürlich Heidelberg \nTreffpunkt: HD-Südstadt\, Rohrbacher Straße 102–104\, Parkplatz Helmholtz-Gymnasium\, gegenüber Bergfriedhof (Link zu Google Maps)
URL:https://natur-fuehrungen.de/termin/ueberlebenskuenstler-die-flora-auf-sand-in-der-heidelberger-suedstadt-4/
LOCATION:HD Südstadt\, Parkplatz Helmholz-Gymnasium\, Rohrbacher Str. 102\, Heidelberg\, 69126\, Deutschland
CATEGORIES:Exkursionen
ORGANIZER;CN="Nat%C3%BCrlich Heidelberg":MAILTO:natuerlich@heidelberg.de
END:VEVENT
END:VCALENDAR