BEGIN:VCALENDAR
VERSION:2.0
PRODID:-//natur-fuehrungen.de - ECPv6.3.1//NONSGML v1.0//EN
CALSCALE:GREGORIAN
METHOD:PUBLISH
X-WR-CALNAME:natur-fuehrungen.de
X-ORIGINAL-URL:https://natur-fuehrungen.de
X-WR-CALDESC:Veranstaltungen für natur-fuehrungen.de
REFRESH-INTERVAL;VALUE=DURATION:PT1H
X-Robots-Tag:noindex
X-PUBLISHED-TTL:PT1H
BEGIN:VTIMEZONE
TZID:Europe/Berlin
BEGIN:DAYLIGHT
TZOFFSETFROM:+0100
TZOFFSETTO:+0200
TZNAME:CEST
DTSTART:20220327T010000
END:DAYLIGHT
BEGIN:STANDARD
TZOFFSETFROM:+0200
TZOFFSETTO:+0100
TZNAME:CET
DTSTART:20221030T010000
END:STANDARD
END:VTIMEZONE
BEGIN:VEVENT
DTSTART;TZID=Europe/Berlin:20220511T171500
DTEND;TZID=Europe/Berlin:20220511T190000
DTSTAMP:20260419T235847
CREATED:20220202T100459Z
LAST-MODIFIED:20220202T100459Z
UID:514-1652289300-1652295600@natur-fuehrungen.de
SUMMARY:Wildkräuter & Neophyten auf dem Steinberg in Heidelberg–Handschuhsheim
DESCRIPTION:Gebühr: 8 € (erm. 7€)\nKinder bis 6 Jahre frei\nBarzahlung am Veranstaltungstermin\n\nDie Teilnehmerzahl ist begrenzt und eine verbindliche Anmeldung bis Dienstag\, 10. Mai\, ist erforderlich (!) unter Buchungsportal Natürlich Heidelberg \nTreffpunkt: HD-Handschuhsheim\, Zum Steinberg\, Handschuhsheimer Friedhof\, Parkplatz am Haupteingang  (Link zu Google Maps)
URL:https://natur-fuehrungen.de/termin/wildkraeuter-neophyten-auf-dem-steinberg-in-heidelberg-handschuhsheim-3/
LOCATION:HD Handschuhsheim\, Friedhof\, Parkplatz am Haupteingang\, Zum Steinberg 45\, Heidelberg\, 69121\, Deutschland
CATEGORIES:Exkursionen
ORGANIZER;CN="Nat%C3%BCrlich Heidelberg":MAILTO:natuerlich@heidelberg.de
END:VEVENT
END:VCALENDAR