BEGIN:VCALENDAR
VERSION:2.0
PRODID:-//natur-fuehrungen.de - ECPv6.3.1//NONSGML v1.0//EN
CALSCALE:GREGORIAN
METHOD:PUBLISH
X-WR-CALNAME:natur-fuehrungen.de
X-ORIGINAL-URL:https://natur-fuehrungen.de
X-WR-CALDESC:Veranstaltungen für natur-fuehrungen.de
REFRESH-INTERVAL;VALUE=DURATION:PT1H
X-Robots-Tag:noindex
X-PUBLISHED-TTL:PT1H
BEGIN:VTIMEZONE
TZID:Europe/Berlin
BEGIN:DAYLIGHT
TZOFFSETFROM:+0100
TZOFFSETTO:+0200
TZNAME:CEST
DTSTART:20220327T010000
END:DAYLIGHT
BEGIN:STANDARD
TZOFFSETFROM:+0200
TZOFFSETTO:+0100
TZNAME:CET
DTSTART:20221030T010000
END:STANDARD
END:VTIMEZONE
BEGIN:VEVENT
DTSTART;TZID=Europe/Berlin:20220622T171500
DTEND;TZID=Europe/Berlin:20220622T191500
DTSTAMP:20260420T014023
CREATED:20220202T100649Z
LAST-MODIFIED:20220202T100718Z
UID:516-1655918100-1655925300@natur-fuehrungen.de
SUMMARY:Vom Speyererhof zur Sprunghöhe – Exoten im Stadtwald
DESCRIPTION:Gebühr: 8 € (erm. 7€)\nKinder bis 6 Jahre frei\nBarzahlung am Veranstaltungstermin Barzahlungstermin\n\nDie Teilnehmerzahl ist begrenzt und eine verbindliche Anmeldung bis Dienstag\, 21. Juni\, ist erforderlich (!) unter Buchungsportal Natürlich Heidelberg \nTreffpunkt: Bushaltestelle ‚Bierhelderhof‘\, Linie 39 (Link zu Google Maps)
URL:https://natur-fuehrungen.de/termin/vom-speyererhof-zur-sprunghoehe-exoten-im-stadtwald/
LOCATION:Bushaltestelle Bierhelderhof/Ehrenfriedhof\, Linie 39\, Ehrenfriedhof\, Heidelberg\, 69117
CATEGORIES:Exkursionen
ORGANIZER;CN="Nat%C3%BCrlich Heidelberg":MAILTO:natuerlich@heidelberg.de
END:VEVENT
END:VCALENDAR