BEGIN:VCALENDAR
VERSION:2.0
PRODID:-//natur-fuehrungen.de - ECPv6.3.1//NONSGML v1.0//EN
CALSCALE:GREGORIAN
METHOD:PUBLISH
X-WR-CALNAME:natur-fuehrungen.de
X-ORIGINAL-URL:https://natur-fuehrungen.de
X-WR-CALDESC:Veranstaltungen für natur-fuehrungen.de
REFRESH-INTERVAL;VALUE=DURATION:PT1H
X-Robots-Tag:noindex
X-PUBLISHED-TTL:PT1H
BEGIN:VTIMEZONE
TZID:Europe/Berlin
BEGIN:DAYLIGHT
TZOFFSETFROM:+0100
TZOFFSETTO:+0200
TZNAME:CEST
DTSTART:20220327T010000
END:DAYLIGHT
BEGIN:STANDARD
TZOFFSETFROM:+0200
TZOFFSETTO:+0100
TZNAME:CET
DTSTART:20221030T010000
END:STANDARD
END:VTIMEZONE
BEGIN:VEVENT
DTSTART;TZID=Europe/Berlin:20220703T110000
DTEND;TZID=Europe/Berlin:20220703T130000
DTSTAMP:20260420T014022
CREATED:20220202T100839Z
LAST-MODIFIED:20220512T134817Z
UID:519-1656846000-1656853200@natur-fuehrungen.de
SUMMARY:Streuobstwiesen am Kohlhof – Wild- & Heilkräuter im Sommer
DESCRIPTION:Gebühr: 8 € (erm. 7 €)\nKinder bis 6 Jahre frei\nBarzahlung am Veranstaltungstermin\n\nDie Teilnehmerzahl ist begrenzt und eine verbindliche Anmeldung bis Freitag\, 24. Juni\, ist erforderlich (!) unter Buchungsportal Natürlich Heidelberg \nTreffpunkt: Parkplatz Posseltslust/Kohlhof (Link zu Google Maps)
URL:https://natur-fuehrungen.de/termin/streuobstwiesen-am-kohlhof-wild-heilkraeuter-im-sommer-3/
LOCATION:Kohlhofwiese\, Heidelberg
CATEGORIES:Exkursionen
ORGANIZER;CN="Nat%C3%BCrlich Heidelberg":MAILTO:natuerlich@heidelberg.de
END:VEVENT
END:VCALENDAR