BEGIN:VCALENDAR
VERSION:2.0
PRODID:-//natur-fuehrungen.de - ECPv6.3.1//NONSGML v1.0//EN
CALSCALE:GREGORIAN
METHOD:PUBLISH
X-WR-CALNAME:natur-fuehrungen.de
X-ORIGINAL-URL:https://natur-fuehrungen.de
X-WR-CALDESC:Veranstaltungen für natur-fuehrungen.de
REFRESH-INTERVAL;VALUE=DURATION:PT1H
X-Robots-Tag:noindex
X-PUBLISHED-TTL:PT1H
BEGIN:VTIMEZONE
TZID:Europe/Berlin
BEGIN:DAYLIGHT
TZOFFSETFROM:+0100
TZOFFSETTO:+0200
TZNAME:CEST
DTSTART:20230326T010000
END:DAYLIGHT
BEGIN:STANDARD
TZOFFSETFROM:+0200
TZOFFSETTO:+0100
TZNAME:CET
DTSTART:20231029T010000
END:STANDARD
END:VTIMEZONE
BEGIN:VEVENT
DTSTART;TZID=Europe/Berlin:20230326T103000
DTEND;TZID=Europe/Berlin:20230326T124500
DTSTAMP:20260420T115154
CREATED:20221213T143735Z
LAST-MODIFIED:20230227T152133Z
UID:573-1679826600-1679834700@natur-fuehrungen.de
SUMMARY:Wild- und Heilkräuterführung am Kohlhof
DESCRIPTION:Jeder kennt sie\, die Heidelberger Schlittenwiese am Kohlhof! Wer aber im Frühling\, Sommer und Herbst über die Wiese läuft\, kann eine Menge wilder\, essbarer Kräuter und Blumen entdecken. Bloß\, wie kann man sie sicher erkennen und finden? Jede Familie kann sich auf dem Spaziergang unter Anleitung ein kleines Kräuterbüchlein anlegen (Material dafür wird mitgebracht) und auch die Kinder lernen so spielerisch die Kräuter kennen und vor allem auch wiedererkennen. Nebenbei wird erklärt\, wofür die Wildkräuter genutzt werden können\, welche Heilkräfte sie haben und wie sie am besten schmecken! \nWenn Sie ein Kräuterbüchlein gestalten wollen\, kommen zur Teilnahmegebühr zusätzlich 2 Euro Materialkosten hinzu\, die vor Ort bezahlt werden. \n\nFür Familien\nKosten 12 Euro für Erwachsene\, 8 Euro für Kinder\n\nAnmeldung und Information: VHS Kursnummer  1813k\, Anmeldung bei der VHS Heidelberg. Für Familien
URL:https://natur-fuehrungen.de/termin/wild-und-heilkraeuterfuehrung-am-kohlhof-2/
LOCATION:Treffpunkt: wird bei Anmeldung bekannt gegeben
CATEGORIES:Führungen
END:VEVENT
END:VCALENDAR