BEGIN:VCALENDAR
VERSION:2.0
PRODID:-//natur-fuehrungen.de - ECPv6.3.1//NONSGML v1.0//EN
CALSCALE:GREGORIAN
METHOD:PUBLISH
X-WR-CALNAME:natur-fuehrungen.de
X-ORIGINAL-URL:https://natur-fuehrungen.de
X-WR-CALDESC:Veranstaltungen für natur-fuehrungen.de
REFRESH-INTERVAL;VALUE=DURATION:PT1H
X-Robots-Tag:noindex
X-PUBLISHED-TTL:PT1H
BEGIN:VTIMEZONE
TZID:Europe/Berlin
BEGIN:DAYLIGHT
TZOFFSETFROM:+0100
TZOFFSETTO:+0200
TZNAME:CEST
DTSTART:20230326T010000
END:DAYLIGHT
BEGIN:STANDARD
TZOFFSETFROM:+0200
TZOFFSETTO:+0100
TZNAME:CET
DTSTART:20231029T010000
END:STANDARD
END:VTIMEZONE
BEGIN:VEVENT
DTSTART;TZID=Europe/Berlin:20230427T173000
DTEND;TZID=Europe/Berlin:20230427T193000
DTSTAMP:20260424T131938
CREATED:20221213T141643Z
LAST-MODIFIED:20221213T141643Z
UID:548-1682616600-1682623800@natur-fuehrungen.de
SUMMARY:»Waldmeisterspaziergang« im Heidelberger Stadtwald
DESCRIPTION:Gebühr: 8 € (erm. 7 €)\nBarzahlung am Veranstaltungstermin\nTreffpunkt: HD\, Bushaltestelle »Drei Eichen«\, Linie 39\n\nKeine Anmeldung erforderlich
URL:https://natur-fuehrungen.de/termin/waldmeisterspaziergang-im-heidelberger-stadtwald-2/
LOCATION:Bushaltestelle „Drei Eichen“\, Linie 39\, Kreuzung K9708 /\, Drei-Eichen-Weg\, Heidelberg\, 69117 
CATEGORIES:Exkursionen
END:VEVENT
END:VCALENDAR