BEGIN:VCALENDAR
VERSION:2.0
PRODID:-//natur-fuehrungen.de - ECPv6.3.1//NONSGML v1.0//EN
CALSCALE:GREGORIAN
METHOD:PUBLISH
X-ORIGINAL-URL:https://natur-fuehrungen.de
X-WR-CALDESC:Veranstaltungen für natur-fuehrungen.de
REFRESH-INTERVAL;VALUE=DURATION:PT1H
X-Robots-Tag:noindex
X-PUBLISHED-TTL:PT1H
BEGIN:VTIMEZONE
TZID:Europe/Berlin
BEGIN:DAYLIGHT
TZOFFSETFROM:+0100
TZOFFSETTO:+0200
TZNAME:CEST
DTSTART:20260329T010000
END:DAYLIGHT
BEGIN:STANDARD
TZOFFSETFROM:+0200
TZOFFSETTO:+0100
TZNAME:CET
DTSTART:20261025T010000
END:STANDARD
END:VTIMEZONE
BEGIN:VEVENT
DTSTART;TZID=Europe/Berlin:20261119T173000
DTEND;TZID=Europe/Berlin:20261119T193000
DTSTAMP:20260420T014159
CREATED:20260225T103800Z
LAST-MODIFIED:20260225T103800Z
UID:765-1795109400-1795116600@natur-fuehrungen.de
SUMMARY:After-Work-Schokoladenworkshop
DESCRIPTION:Lust auf Schokolade?\nWie und wo wächst der Kakaobaum\, wie sehen seine Früchte aus und wie verarbeitet man die bitteren Bohnen zur edlen Schokolade. In diesem zweistündigen Workshop stellen wir aus frisch gerösteten Kakaobohnen selbst Schokolade her und bereiten uns – nach altem Rezept der Azteken – ein »echtes Xocolatl« zu. \n\nGebühr: 30 € inkl. Materialkosten\nAnmeldung durch Überweisung (erforderliche Informationen erhalten Sie nach Voranmeldung per Mail)\nDozentin: Friederike Niestroj\nTreffpunkt: Eingang zu den Gewächshäusern\nBegrenzte Teilnehmerzahl\nVoranmeldung unter bg.sekretariat@cos.uni-heidelberg.de
URL:https://natur-fuehrungen.de/termin/after-work-schokoladenworkshop-3/
LOCATION:Botanischer Garten: Eingang zu den Gewächshäusern\, Im Neuenheimer Feld 340\, Heidelberg\, 69120
CATEGORIES:Schokoladenwerkstatt
ORGANIZER;CN="Botanischer Garten Heidelberg":MAILTO:bg.sekretariat@cos.uni-heidelberg.de
END:VEVENT
END:VCALENDAR