BEGIN:VCALENDAR
VERSION:2.0
PRODID:-//natur-fuehrungen.de - ECPv6.3.1//NONSGML v1.0//EN
CALSCALE:GREGORIAN
METHOD:PUBLISH
X-WR-CALNAME:natur-fuehrungen.de
X-ORIGINAL-URL:https://natur-fuehrungen.de
X-WR-CALDESC:Veranstaltungen für natur-fuehrungen.de
REFRESH-INTERVAL;VALUE=DURATION:PT1H
X-Robots-Tag:noindex
X-PUBLISHED-TTL:PT1H
BEGIN:VTIMEZONE
TZID:Europe/Berlin
BEGIN:DAYLIGHT
TZOFFSETFROM:+0100
TZOFFSETTO:+0200
TZNAME:CEST
DTSTART:20220327T010000
END:DAYLIGHT
BEGIN:STANDARD
TZOFFSETFROM:+0200
TZOFFSETTO:+0100
TZNAME:CET
DTSTART:20221030T010000
END:STANDARD
END:VTIMEZONE
BEGIN:VEVENT
DTSTART;TZID=Europe/Berlin:20220220T110000
DTEND;TZID=Europe/Berlin:20220220T120000
DTSTAMP:20260419T181157
CREATED:20220202T094022Z
LAST-MODIFIED:20220202T095347Z
UID:502-1645354800-1645358400@natur-fuehrungen.de
SUMMARY:Vom Kakaobaum zur Schokolade – Der lange Weg zum Genuss
DESCRIPTION:Gebühr: 5 €\nKinder bis 6 Jahre frei\, 7–14 Jahre 3 €\nBarzahlung am Veranstaltungstermin\n\nDie Teilnehmerzahl ist begrenzt und eine verbindliche Anmeldung bis Freitag\, den 18. Februar\, ist erforderlich (!) unter: bgsekretariat@cos.uni-heidelberg.de
URL:https://natur-fuehrungen.de/termin/vom-kakaobaum-zur-schokolade-der-lange-weg-zum-genuss/
LOCATION:Botanischer Garten: Eingang zu den Gewächshäusern\, Im Neuenheimer Feld 340\, Heidelberg\, 69120
CATEGORIES:Führungen
END:VEVENT
END:VCALENDAR