BEGIN:VCALENDAR
VERSION:2.0
PRODID:-//natur-fuehrungen.de - ECPv6.3.1//NONSGML v1.0//EN
CALSCALE:GREGORIAN
METHOD:PUBLISH
X-ORIGINAL-URL:https://natur-fuehrungen.de
X-WR-CALDESC:Veranstaltungen für natur-fuehrungen.de
REFRESH-INTERVAL;VALUE=DURATION:PT1H
X-Robots-Tag:noindex
X-PUBLISHED-TTL:PT1H
BEGIN:VTIMEZONE
TZID:Europe/Berlin
BEGIN:DAYLIGHT
TZOFFSETFROM:+0100
TZOFFSETTO:+0200
TZNAME:CEST
DTSTART:20230326T010000
END:DAYLIGHT
BEGIN:STANDARD
TZOFFSETFROM:+0200
TZOFFSETTO:+0100
TZNAME:CET
DTSTART:20231029T010000
END:STANDARD
END:VTIMEZONE
BEGIN:VEVENT
DTSTART;TZID=Europe/Berlin:20230115T110000
DTEND;TZID=Europe/Berlin:20230115T120000
DTSTAMP:20260420T065413
CREATED:20221213T140030Z
LAST-MODIFIED:20221213T140118Z
UID:537-1673780400-1673784000@natur-fuehrungen.de
SUMMARY:Allgemeine Schauhausführung – Tropische Orchideen\, blühende Kakteen\, ...
DESCRIPTION:Gebühr: 5 €\nKinder bis 6 Jahre frei\, 7–14 Jahre 4 €\nBarzahlung am Veranstaltungstermin\nTreffpunkt: Eingang zu den Gewächshäusern\n\nKeine Anmeldung erforderlich
URL:https://natur-fuehrungen.de/termin/allgemeine-schauhausfuehrung-tropische-orchideen-bluehende-kakteen-5/
LOCATION:Botanischer Garten: Eingang zu den Gewächshäusern\, Im Neuenheimer Feld 340\, Heidelberg\, 69120
CATEGORIES:Führungen
END:VEVENT
END:VCALENDAR