BEGIN:VCALENDAR
VERSION:2.0
PRODID:-//natur-fuehrungen.de - ECPv6.3.1//NONSGML v1.0//EN
CALSCALE:GREGORIAN
METHOD:PUBLISH
X-ORIGINAL-URL:https://natur-fuehrungen.de
X-WR-CALDESC:Veranstaltungen für natur-fuehrungen.de
REFRESH-INTERVAL;VALUE=DURATION:PT1H
X-Robots-Tag:noindex
X-PUBLISHED-TTL:PT1H
BEGIN:VTIMEZONE
TZID:Europe/Berlin
BEGIN:DAYLIGHT
TZOFFSETFROM:+0100
TZOFFSETTO:+0200
TZNAME:CEST
DTSTART:20240331T010000
END:DAYLIGHT
BEGIN:STANDARD
TZOFFSETFROM:+0200
TZOFFSETTO:+0100
TZNAME:CET
DTSTART:20241027T010000
END:STANDARD
END:VTIMEZONE
BEGIN:VEVENT
DTSTART;TZID=Europe/Berlin:20240401T140000
DTEND;TZID=Europe/Berlin:20240401T160000
DTSTAMP:20260422T134918
CREATED:20240103T180211Z
LAST-MODIFIED:20240103T180211Z
UID:641-1711980000-1711987200@natur-fuehrungen.de
SUMMARY:Wild- und Heilkräuterführung am Kohlhof im Frühling für Familien
DESCRIPTION:Frühlings-Spaziergang in den Osterferien\nDie Streuobstwiese am Kohlhof ist ein Wildkräuterparadies für Naturliebhaber und birgt eine Vielfalt von Wild- und Heilkräutern\, die wieder mehr in den Mittelpunkt unserer Ernährung und unseres Wohlbefindens rücken. Wie man die verschiedenen Wildkräuter sicher erkennt\, sammelt und wie man sie zubereitet\, damit sie schmecken und wirken\, erfahren Sie auf dem gut zweistündigen Spaziergang über die Kohlhofwiese. Die Kinder dürfen sich eine kleine Kräuterkarte anlegen. \n\nGebühr: Erwachsene 12\,00 €\, Kinder 8\,00 €\nKursnummer der VHS: 1815k\nTreffpunkt: Wird bei Anmeldung bekannt gegeben\nAnmeldung unter folgendem Link
URL:https://natur-fuehrungen.de/termin/wild-und-heilkraeuterfuehrung-am-kohlhof-im-fruehling-fuer-familien/
LOCATION:Treffpunkt: wird bei Anmeldung bekannt gegeben
CATEGORIES:Führungen
END:VEVENT
BEGIN:VEVENT
DTSTART;TZID=Europe/Berlin:20240414T110000
DTEND;TZID=Europe/Berlin:20240414T130000
DTSTAMP:20260422T134918
CREATED:20240102T174551Z
LAST-MODIFIED:20240102T174551Z
UID:619-1713092400-1713099600@natur-fuehrungen.de
SUMMARY:Streuobstwiesen am Kohlhof – Wild- & Heilkräuter im Frühling
DESCRIPTION:Die Streuobstwiese am Kohlhof bringt eine Vielfalt von Wild- und Heilkräutern\, die wieder mehr in den Mittelpunkt unserer Ernährung und unseres Wohlbefindens rücken. Wie man diese sicher erkennt\, sammelt und zubereitet\, damit sie schmecken und wirken\, erfahren Sie auf dem zweistündigen Spaziergang über die Kohlhofwiese. \n\nGebühr: 8 € (erm. 7 €)\nKinder bis 6 Jahre frei\nBarzahlung am Veranstaltungstermin\nTreffpunkt: HD\, Parkplatz Posseltslust/Kohlhof\n\nKeine Anmeldung erforderlich
URL:https://natur-fuehrungen.de/termin/streuobstwiesen-am-kohlhof-wild-heilkraeuter-im-fruehling-6/
LOCATION:Kohlhofwiese\, Heidelberg
CATEGORIES:Exkursionen
END:VEVENT
BEGIN:VEVENT
DTSTART;TZID=Europe/Berlin:20240417T173000
DTEND;TZID=Europe/Berlin:20240417T203000
DTSTAMP:20260422T134918
CREATED:20240102T171545Z
LAST-MODIFIED:20240102T211307Z
UID:608-1713375000-1713385800@natur-fuehrungen.de
SUMMARY:After-Work-Cooking mit heimischen Wildkräutern & -blüten
DESCRIPTION:Wiesen und Wälder bieten eine große Vielfalt von Wildpflanzen\, die sich hervorragend für die Zubereitung köstlicher Gerichte eignen. \nIm Workshop werden Erkennungsmerkmale der verwendeten Pflanzen erklärt und beim gemeinsamen Kochen erfahren Sie\, was bei der Zubereitung der Speisen zu beachten ist\, damit die wertvollen Inhaltsstoffe der Kräuter und Früchte erhalten bleiben. \n\nGebühr: 40 € (inkl. Materialkosten)\nAnmeldung durch Überweisung bis Freitag\, 12. April 2024\nTreffpunkt: Eingang zu den Gewächshäusern des Botanischen Gartens\nBegrenzte Teilnehmerzahl\n\nAnmeldung unter bg.sekretariat@cos.uni-heidelberg.de
URL:https://natur-fuehrungen.de/termin/after-work-cooking-mit-heimischen-wildkraeutern-blueten-9/
LOCATION:Botanischer Garten: Eingang zu den Gewächshäusern\, Im Neuenheimer Feld 340\, Heidelberg\, 69120
CATEGORIES:Kochworkshops
ORGANIZER;CN="Nat%C3%BCrlich Heidelberg":MAILTO:natuerlich@heidelberg.de
END:VEVENT
BEGIN:VEVENT
DTSTART;TZID=Europe/Berlin:20240424T173000
DTEND;TZID=Europe/Berlin:20240424T193000
DTSTAMP:20260422T134918
CREATED:20240103T180947Z
LAST-MODIFIED:20240103T180947Z
UID:645-1713979800-1713987000@natur-fuehrungen.de
SUMMARY:Wild- und Heilkräuterführung für Erwachsene
DESCRIPTION:After – Work – Spaziergang am Kohlhof\nDie Streuobstwiese am Kohlhof ist ein Wildkräuterparadies für Naturliebhaber und birgt eine Vielfalt von Wild- und Heilkräutern\, die wieder mehr in den Mittelpunkt unserer Ernährung und unseres Wohlbefindens rücken. Wie man die verschiedenen Wildkräuter sicher erkennt\, sammelt und wie man sie zubereitet\, damit sie schmecken und wirken\, erfahren Sie auf dem gut zweistündigen Spaziergang über die Kohlhofwiese. \n\nGebühr: Erwachsene 12\,00 €\nKursnummer der VHS: 1676\nTreffpunkt: Wird bei Anmeldung bekannt gegeben\nAnmeldung unter folgendem Link
URL:https://natur-fuehrungen.de/termin/wild-und-heilkraeuterfuehrung-fuer-erwachsene/
LOCATION:Treffpunkt: wird bei Anmeldung bekannt gegeben
CATEGORIES:Führungen
END:VEVENT
END:VCALENDAR